BEGIN:VCALENDAR
VERSION:2.0
PRODID:-//Asara - ECPv6.15.20//NONSGML v1.0//EN
CALSCALE:GREGORIAN
METHOD:PUBLISH
X-WR-CALNAME:Asara
X-ORIGINAL-URL:https://asara.org.ar
X-WR-CALDESC:Eventos para Asara
REFRESH-INTERVAL;VALUE=DURATION:PT1H
X-Robots-Tag:noindex
X-PUBLISHED-TTL:PT1H
BEGIN:VTIMEZONE
TZID:America/Argentina/Buenos_Aires
BEGIN:STANDARD
TZOFFSETFROM:-0300
TZOFFSETTO:-0300
TZNAME:-03
DTSTART:20240101T000000
END:STANDARD
END:VTIMEZONE
BEGIN:VEVENT
DTSTART;VALUE=DATE:20250621
DTEND;VALUE=DATE:20250622
DTSTAMP:20260420T140011
CREATED:20250415T110832Z
LAST-MODIFIED:20250415T110957Z
UID:3604-1750464000-1750550399@asara.org.ar
SUMMARY:Simposio “Audiología en Español. Su Presente. Su Futuro.”
DESCRIPTION:
URL:https://asara.org.ar/evento/simposio-audiologia-en-espanol-su-presente-su-futuro/
CATEGORIES:Varios
END:VEVENT
END:VCALENDAR